BEGIN:VCALENDAR
VERSION:2.0
PRODID:-//Easton Town Center - ECPv6.6.4.2//NONSGML v1.0//EN
CALSCALE:GREGORIAN
METHOD:PUBLISH
X-WR-CALNAME:Easton Town Center
X-ORIGINAL-URL:https://eastontowncenter.com
X-WR-CALDESC:Events for Easton Town Center
REFRESH-INTERVAL;VALUE=DURATION:PT1H
X-Robots-Tag:noindex
X-PUBLISHED-TTL:PT1H
BEGIN:VTIMEZONE
TZID:America/New_York
BEGIN:DAYLIGHT
TZOFFSETFROM:-0500
TZOFFSETTO:-0400
TZNAME:EDT
DTSTART:20260308T070000
END:DAYLIGHT
BEGIN:STANDARD
TZOFFSETFROM:-0400
TZOFFSETTO:-0500
TZNAME:EST
DTSTART:20261101T060000
END:STANDARD
END:VTIMEZONE
BEGIN:VEVENT
DTSTART;TZID=America/New_York:20260207T110000
DTEND;TZID=America/New_York:20260207T140000
DTSTAMP:20260423T125906
CREATED:20260204T191204Z
LAST-MODIFIED:20260205T210155Z
UID:10045147-1770462000-1770472800@eastontowncenter.com
SUMMARY:SITKA Fish: All Waters. No Limits.
DESCRIPTION:Saturday\, February 7 | 11AM\nSITKA Easton\nLocated at Easton Gateway \nJoin us February 7 at 11AM at SITKA Columbus for an event focused on kicking off the season with the right knowledge and brand-new SITKA Fish gear. \nThis educational-driven evening will feature in-store experts and partners like Boat Things and Captain Ken’s Wild Wings breaking down fishing systems\, essential gear\, and different types of fishing\, helping anglers understand how to choose the right setup for their needs. Whether you’re new to fishing or looking to refine your approach\, this event is designed to build confidence and elevate your time on the water. Connect with fellow anglers\, learn from the experts\, and get ready for the season ahead. \nThere will be free drinks and raffles for a chance to win brand-new SITKA gear. We hope to see you there!
URL:https://eastontowncenter.com/event/sitka-fish-all-waters-no-limits/
CATEGORIES:Event
ATTACH;FMTTYPE=image/png:https://eastontowncenter.com/wp-content/uploads/2026/02/Untitled-design-4.png
END:VEVENT
BEGIN:VEVENT
DTSTART;TZID=America/New_York:20260207T090000
DTEND;TZID=America/New_York:20260207T120000
DTSTAMP:20260423T125906
CREATED:20260113T163635Z
LAST-MODIFIED:20260120T163953Z
UID:10045136-1770454800-1770465600@eastontowncenter.com
SUMMARY:Ice Cream for Breakfast Day at Jeni's
DESCRIPTION:Saturday\, February 2 | 9AM-12PM\nJeni’s Splendid Ice Creams \nJeni’s annual Ice Cream for Breakfast Day celebration is almost here! Head to the Easton Jeni’s on Saturday\, Feb. 7\, 9 a.m. to noon. There’s plenty of fun in store\, including NEW House Coffee ice cream\, a special menu of breakfast-themed pairings\, kids’ coloring sheets\, and more. So put on your PJs and grab a spoon — we’ll see you there! \nJust in time for Ice Cream for Breakfast Day\, Jeni’s is launching a new flavor: House Coffee! An ice cream that tastes the way coffee smells — made with expertly roasted\, direct trade coffee folded into cream\, and finished with a dusting of espresso-ground coffee for extra depth and pleasant texture. Try it in shops during Jeni’s 10th annual Ice Cream for Breakfast Day celebration (2/7\, from 9 a.m. to noon). Also available at jenis.com starting 2/2.
URL:https://eastontowncenter.com/event/ice-cream-for-breakfast-day-at-jenis/
CATEGORIES:Event
ATTACH;FMTTYPE=image/png:https://eastontowncenter.com/wp-content/uploads/2026/01/Jenis-Ice-Cream.png
END:VEVENT
BEGIN:VEVENT
DTSTART;TZID=America/New_York:20260131T110000
DTEND;TZID=America/New_York:20260207T220000
DTSTAMP:20260423T125906
CREATED:20260128T171647Z
LAST-MODIFIED:20260202T183816Z
UID:10045143-1769857200-1770501600@eastontowncenter.com
SUMMARY:614 Restaurant Week - EXTENDED
DESCRIPTION:Jan. 26-Feb. 7\nVarious Easton Restaurants \nEnjoy 3-course meals for a fraction of the cost at some of Easton’s best restaurants. \nParticipating Locations:\nDue to the weather\, these restaurants have chosen to extend their menu through February 7th! \n\nBareburger\nCafe Istanbul\nCooper’s Hawk Winery & Restaurant\nCut132\nDel Mar\nFado Irish Pub & Kitchen\nForbidden Root\nMastro’s Steakhouse\nNAPA Kitchen & Bar\nRusty Bucket\nSlurping Turtle\nThe Melting Pot\n\nView all menus.
URL:https://eastontowncenter.com/event/614-restaurant-week-extended/
CATEGORIES:Event
ATTACH;FMTTYPE=image/png:https://eastontowncenter.com/wp-content/uploads/2026/01/Jan26_RW_blog.png
END:VEVENT
BEGIN:VEVENT
DTSTART;TZID=America/New_York:20260131T100000
DTEND;TZID=America/New_York:20260131T160000
DTSTAMP:20260423T125906
CREATED:20260128T183802Z
LAST-MODIFIED:20260128T183802Z
UID:10045144-1769853600-1769875200@eastontowncenter.com
SUMMARY:The Abercrombie Denim Experience
DESCRIPTION:Saturday\, January 31 | 10AM-4PM\nAbercrombie & Fitch \nAbercrombie is hosting an in-store event on Jan. 31st from 10AM-4PM to celebrate everything denim. \nStop by for personalized styling sessions\, great photo ops and exclusive gifts with purchase*—including a free pair of jeans for the first 15 guests.** \nSee you there. \n*Offer valid on 1/31/2026 only. Available while supplies last. Limit 1 per transaction. See associate in participating stores for details. \n**Offer valid only for the first 15 people at each participating store and valid only at that store location. Offer valid on 1/31/2026 only. Excludes Abercrombie Vintage jeans. Qualifying purchase must contain at least 1 item. No minimum purchase amount required. Excludes gift cards. Check post for the full list of participating stores. Discount applied at checkout in store. See associate in participating stores for details.
URL:https://eastontowncenter.com/event/the-abercrombie-denim-experience/
CATEGORIES:Event
ATTACH;FMTTYPE=image/png:https://eastontowncenter.com/wp-content/uploads/2026/01/af_event.png
END:VEVENT
BEGIN:VEVENT
DTSTART;TZID=America/New_York:20260126T110000
DTEND;TZID=America/New_York:20260130T220000
DTSTAMP:20260423T125906
CREATED:20260105T161551Z
LAST-MODIFIED:20260128T171226Z
UID:10044764-1769425200-1769810400@eastontowncenter.com
SUMMARY:614 Restaurant Week
DESCRIPTION:January 26-31\, 2026\nVarious Easton Restaurants \nEnjoy 3-course meals for a fraction of the cost at some of Easton’s best restaurants all week long. \nParticipating Locations:\nDue to the weather\, some restaurants have chosen to extend their menu through February 7th! \n\nBar Italia\nBareburger\nCafe Istanbul\nCondado Tacos\nCooper’s Hawk Winery\nCut132 (EXTENDED UNTIL FEB. 7!)\nDel Mar (EXTENDED UNTIL FEB. 7!)\nDos Hermanos\nFado Irish Pub & Kitchen (EXTENDED UNTIL FEB. 7!)\nForbidden Root (EXTENDED UNTIL FEB. 7!)\nKona Grill\nMastro’s Steakhouse (EXTENDED UNTIL FEB. 7!)\nNAPA Kitchen & Bar\nParis Baguette\nPBR Cowboy Bar + Smokehouse\nPho Social\nPies & Pints\nRusty Bucket (EXTENDED UNTIL FEB. 7!)\nSlurping Turtle\nThe Melting Pot (EXTENDED UNTIL FEB. 7!)\n\nView all menus.
URL:https://eastontowncenter.com/event/614-restaurant-week/
CATEGORIES:Event
ATTACH;FMTTYPE=image/png:https://eastontowncenter.com/wp-content/uploads/2026/01/Jan26_RW_blog.png
END:VEVENT
END:VCALENDAR