BEGIN:VCALENDAR
VERSION:2.0
PRODID:-//Easton Town Center - ECPv6.6.4.2//NONSGML v1.0//EN
CALSCALE:GREGORIAN
METHOD:PUBLISH
X-WR-CALNAME:Easton Town Center
X-ORIGINAL-URL:https://eastontowncenter.com
X-WR-CALDESC:Events for Easton Town Center
REFRESH-INTERVAL;VALUE=DURATION:PT1H
X-Robots-Tag:noindex
X-PUBLISHED-TTL:PT1H
BEGIN:VTIMEZONE
TZID:America/New_York
BEGIN:DAYLIGHT
TZOFFSETFROM:-0500
TZOFFSETTO:-0400
TZNAME:EDT
DTSTART:20260308T070000
END:DAYLIGHT
BEGIN:STANDARD
TZOFFSETFROM:-0400
TZOFFSETTO:-0500
TZNAME:EST
DTSTART:20261101T060000
END:STANDARD
END:VTIMEZONE
BEGIN:VEVENT
DTSTART;TZID=America/New_York:20260524T140000
DTEND;TZID=America/New_York:20260524T153000
DTSTAMP:20260421T004338
CREATED:20260413T162911Z
LAST-MODIFIED:20260413T162911Z
UID:10046212-1779631200-1779636600@eastontowncenter.com
SUMMARY:Lord of the Rings Tribute Drag Brunch at The Funny Bone
DESCRIPTION:One brunch to rule them all\, my precious! \nJoin the Funny Bone on a fabulously unhinged journey through Middle-earth where glam hobbits serve second breakfast realness\, elves slay in sequins\, and villains SERVE. Expect epic lip-sync battles\, legendary looks\, mimosas\, and enough camp to make Gandalf drop his staff! \nMay 24th. Doors open at 12:30PM\, show begins at 2:00PM \nClick here to purchase tickets for this event at the Funny Bone Comedy Club.
URL:https://eastontowncenter.com/event/lord-of-the-rings-tribute-drag-brunch-at-the-funny-bone/
CATEGORIES:Event
ATTACH;FMTTYPE=image/png:https://eastontowncenter.com/wp-content/uploads/2026/04/Untitled-design-51.png
END:VEVENT
END:VCALENDAR