BEGIN:VCALENDAR
VERSION:2.0
PRODID:-//Easton Town Center - ECPv6.6.4.2//NONSGML v1.0//EN
CALSCALE:GREGORIAN
METHOD:PUBLISH
X-WR-CALNAME:Easton Town Center
X-ORIGINAL-URL:https://eastontowncenter.com
X-WR-CALDESC:Events for Easton Town Center
REFRESH-INTERVAL;VALUE=DURATION:PT1H
X-Robots-Tag:noindex
X-PUBLISHED-TTL:PT1H
BEGIN:VTIMEZONE
TZID:America/New_York
BEGIN:DAYLIGHT
TZOFFSETFROM:-0500
TZOFFSETTO:-0400
TZNAME:EDT
DTSTART:20260308T070000
END:DAYLIGHT
BEGIN:STANDARD
TZOFFSETFROM:-0400
TZOFFSETTO:-0500
TZNAME:EST
DTSTART:20261101T060000
END:STANDARD
END:VTIMEZONE
BEGIN:VEVENT
DTSTART;TZID=America/New_York:20260524T140000
DTEND;TZID=America/New_York:20260524T153000
DTSTAMP:20260421T223335
CREATED:20260413T162911Z
LAST-MODIFIED:20260413T162911Z
UID:10046212-1779631200-1779636600@eastontowncenter.com
SUMMARY:Lord of the Rings Tribute Drag Brunch at The Funny Bone
DESCRIPTION:One brunch to rule them all\, my precious! \nJoin the Funny Bone on a fabulously unhinged journey through Middle-earth where glam hobbits serve second breakfast realness\, elves slay in sequins\, and villains SERVE. Expect epic lip-sync battles\, legendary looks\, mimosas\, and enough camp to make Gandalf drop his staff! \nMay 24th. Doors open at 12:30PM\, show begins at 2:00PM \nClick here to purchase tickets for this event at the Funny Bone Comedy Club.
URL:https://eastontowncenter.com/event/lord-of-the-rings-tribute-drag-brunch-at-the-funny-bone/
CATEGORIES:Event
ATTACH;FMTTYPE=image/png:https://eastontowncenter.com/wp-content/uploads/2026/04/Untitled-design-51.png
END:VEVENT
BEGIN:VEVENT
DTSTART;TZID=America/New_York:20260526T200000
DTEND;TZID=America/New_York:20260526T220000
DTSTAMP:20260421T223335
CREATED:20260331T203352Z
LAST-MODIFIED:20260331T203352Z
UID:10045670-1779825600-1779832800@eastontowncenter.com
SUMMARY:What The Funk Music Trivia at Beeline
DESCRIPTION:A weekly “Name That Tune” style music trivia you play from your phone with a variety of categories and over 60 songs a night! \nIf you’re looking for fun things to do on a Tuesday in the Easton area\, come play What The Funk Music Trivia!\nGrab your friends or head out solo to join the fun. This music trivia is a “Name That Tune” style game that you play from your mobile device – no apps\, just a QR code. The game is multiple choice based with a double points bonus round where you have to finish the lyric. You’ll enjoy 2 hours of a wide variety of music from all genres and all decades so there’s something for everyone. It’s the only trivia night you’ll find the whole bar dancing and singing together. \nBeeline is located in the Easton Town Center in Columbus. Beeline is becoming revered for their outstanding cocktails. This location is the perfect spot to head with your happy hour group or after dinner on a Tuesday night.
URL:https://eastontowncenter.com/event/what-the-funk-music-trivia-at-beeline-2/2026-05-26/
ATTACH;FMTTYPE=image/png:https://eastontowncenter.com/wp-content/uploads/2026/03/Untitled-design-22.png
END:VEVENT
BEGIN:VEVENT
DTSTART;TZID=America/New_York:20260528T200000
DTEND;TZID=America/New_York:20260528T220000
DTSTAMP:20260421T223335
CREATED:20260318T152656Z
LAST-MODIFIED:20260331T203518Z
UID:10045933-1779998400-1780005600@eastontowncenter.com
SUMMARY:Thursday Karaoke Nights at Beeline
DESCRIPTION:Your shower voice deserves a stage. Karaoke night at Beeline every Thursday at 8pm! \n6pm – close: half-price drinks & $5 house shots. Bad-singing encouraged. Confidence required. \nHosted by @zmessina_ & @dj.jakeyjake
URL:https://eastontowncenter.com/event/thursday-karaoke-nights-at-beeline/2026-05-28/
ATTACH;FMTTYPE=image/png:https://eastontowncenter.com/wp-content/uploads/2026/03/Untitled-design-25.png
END:VEVENT
END:VCALENDAR