BEGIN:VCALENDAR
VERSION:2.0
PRODID:-//Easton Town Center - ECPv6.6.4.2//NONSGML v1.0//EN
CALSCALE:GREGORIAN
METHOD:PUBLISH
X-WR-CALNAME:Easton Town Center
X-ORIGINAL-URL:https://eastontowncenter.com
X-WR-CALDESC:Events for Easton Town Center
REFRESH-INTERVAL;VALUE=DURATION:PT1H
X-Robots-Tag:noindex
X-PUBLISHED-TTL:PT1H
BEGIN:VTIMEZONE
TZID:America/New_York
BEGIN:DAYLIGHT
TZOFFSETFROM:-0500
TZOFFSETTO:-0400
TZNAME:EDT
DTSTART:20260308T070000
END:DAYLIGHT
BEGIN:STANDARD
TZOFFSETFROM:-0400
TZOFFSETTO:-0500
TZNAME:EST
DTSTART:20261101T060000
END:STANDARD
END:VTIMEZONE
BEGIN:VEVENT
DTSTART;TZID=America/New_York:20260429T183000
DTEND;TZID=America/New_York:20260429T220000
DTSTAMP:20260423T110154
CREATED:20260422T145806Z
LAST-MODIFIED:20260422T145838Z
UID:10046215-1777487400-1777500000@eastontowncenter.com
SUMMARY:Exclusive Wine Pairing Experience at Brio Italian Grille
DESCRIPTION:Don’t miss an unforgettable evening at Brio. \nIndulge in a five-course Italian Dinner featuring paired wines from Terlato Vineyards! Enjoy bold flavors\, incredible pairings\, and a night designed for food and wine lovers. \nThis experience takes place April 29th at 6:30pm priced at $75 per person with tax & gratuity not included. Reservations are required\, and guests are encouraged to call in advance to reserve their spot | 614-416-4745
URL:https://eastontowncenter.com/event/exclusive-wine-pairing-experience-at-brio-italian-grille/
CATEGORIES:Event
ATTACH;FMTTYPE=image/png:https://eastontowncenter.com/wp-content/uploads/2026/04/Untitled-design-53.png
END:VEVENT
END:VCALENDAR