BEGIN:VCALENDAR
VERSION:2.0
PRODID:-//Easton Town Center - ECPv6.6.4.2//NONSGML v1.0//EN
CALSCALE:GREGORIAN
METHOD:PUBLISH
X-WR-CALNAME:Easton Town Center
X-ORIGINAL-URL:https://eastontowncenter.com
X-WR-CALDESC:Events for Easton Town Center
REFRESH-INTERVAL;VALUE=DURATION:PT1H
X-Robots-Tag:noindex
X-PUBLISHED-TTL:PT1H
BEGIN:VTIMEZONE
TZID:America/New_York
BEGIN:DAYLIGHT
TZOFFSETFROM:-0500
TZOFFSETTO:-0400
TZNAME:EDT
DTSTART:20260308T070000
END:DAYLIGHT
BEGIN:STANDARD
TZOFFSETFROM:-0400
TZOFFSETTO:-0500
TZNAME:EST
DTSTART:20261101T060000
END:STANDARD
END:VTIMEZONE
BEGIN:VEVENT
DTSTART;TZID=America/New_York:20260510T173000
DTEND;TZID=America/New_York:20260510T190000
DTSTAMP:20260421T173838
CREATED:20260413T161122Z
LAST-MODIFIED:20260413T161655Z
UID:10046210-1778434200-1778439600@eastontowncenter.com
SUMMARY:Mother's Day Show at The Funny Bone
DESCRIPTION:“Mother’s Day” is not just a day of appreciation\, happiness and joy; it’s a day of laughter! \nSeven comedic mother’s are going to speak about their Motherhood thoughts and experiences in their own way – through raw and uncut gut busting jokes! \nDoors open at 4PM\, show begins at 5:30PM \nClick here to purchase tickets for this event at the Funny Bone Comedy Club.
URL:https://eastontowncenter.com/event/mothers-day-show-at-the-funny-bone/
CATEGORIES:Event
ATTACH;FMTTYPE=image/png:https://eastontowncenter.com/wp-content/uploads/2026/04/Untitled-design-50.png
END:VEVENT
END:VCALENDAR