BEGIN:VCALENDAR
VERSION:2.0
PRODID:-//Easton Town Center - ECPv6.6.4.2//NONSGML v1.0//EN
CALSCALE:GREGORIAN
METHOD:PUBLISH
X-WR-CALNAME:Easton Town Center
X-ORIGINAL-URL:https://eastontowncenter.com
X-WR-CALDESC:Events for Easton Town Center
REFRESH-INTERVAL;VALUE=DURATION:PT1H
X-Robots-Tag:noindex
X-PUBLISHED-TTL:PT1H
BEGIN:VTIMEZONE
TZID:America/New_York
BEGIN:DAYLIGHT
TZOFFSETFROM:-0500
TZOFFSETTO:-0400
TZNAME:EDT
DTSTART:20260308T070000
END:DAYLIGHT
BEGIN:STANDARD
TZOFFSETFROM:-0400
TZOFFSETTO:-0500
TZNAME:EST
DTSTART:20261101T060000
END:STANDARD
END:VTIMEZONE
BEGIN:VEVENT
DTSTART;TZID=America/New_York:20260423T200000
DTEND;TZID=America/New_York:20260423T220000
DTSTAMP:20260421T042629
CREATED:20260318T152656Z
LAST-MODIFIED:20260331T203518Z
UID:10045928-1776974400-1776981600@eastontowncenter.com
SUMMARY:Thursday Karaoke Nights at Beeline
DESCRIPTION:Your shower voice deserves a stage. Karaoke night at Beeline every Thursday at 8pm! \n6pm – close: half-price drinks & $5 house shots. Bad-singing encouraged. Confidence required. \nHosted by @zmessina_ & @dj.jakeyjake
URL:https://eastontowncenter.com/event/thursday-karaoke-nights-at-beeline/2026-04-23/
ATTACH;FMTTYPE=image/png:https://eastontowncenter.com/wp-content/uploads/2026/03/Untitled-design-25.png
END:VEVENT
END:VCALENDAR