BEGIN:VCALENDAR
VERSION:2.0
PRODID:-//Easton Town Center - ECPv6.6.4.2//NONSGML v1.0//EN
CALSCALE:GREGORIAN
METHOD:PUBLISH
X-WR-CALNAME:Easton Town Center
X-ORIGINAL-URL:https://eastontowncenter.com
X-WR-CALDESC:Events for Easton Town Center
REFRESH-INTERVAL;VALUE=DURATION:PT1H
X-Robots-Tag:noindex
X-PUBLISHED-TTL:PT1H
BEGIN:VTIMEZONE
TZID:America/New_York
BEGIN:DAYLIGHT
TZOFFSETFROM:-0500
TZOFFSETTO:-0400
TZNAME:EDT
DTSTART:20260308T070000
END:DAYLIGHT
BEGIN:STANDARD
TZOFFSETFROM:-0400
TZOFFSETTO:-0500
TZNAME:EST
DTSTART:20261101T060000
END:STANDARD
END:VTIMEZONE
BEGIN:VEVENT
DTSTART;VALUE=DATE:20260304
DTEND;VALUE=DATE:20260424
DTSTAMP:20260423T105142
CREATED:20260304T110041Z
LAST-MODIFIED:20260413T150429Z
UID:10045155-1772582400-1776988799@eastontowncenter.com
SUMMARY:CHANEL Fragrance & Beauty Boutique: 5 Interpretations of CHANEL N°5
DESCRIPTION:Visit the CHANEL Fragrance and Beauty Boutique to enjoy a curated olfactory journey that will reveal which expression of N°5 best captures your essence. Complete your experience with an eyewear exploration and a makeup touch-up to match your preferred composition. \nBOOK NOW
URL:https://eastontowncenter.com/event/5-interpretations-of-chanel-n5/
ATTACH;FMTTYPE=image/png:https://eastontowncenter.com/wp-content/uploads/2026/02/Untitled-design-2.png
END:VEVENT
BEGIN:VEVENT
DTSTART;VALUE=DATE:20260413
DTEND;VALUE=DATE:20260420
DTSTAMP:20260423T105142
CREATED:20260321T100031Z
LAST-MODIFIED:20260416T181740Z
UID:10045159-1776038400-1776643199@eastontowncenter.com
SUMMARY:Nordstrom: Color Play Beauty Trend Event
DESCRIPTION:Beauty is in bloom. Join Nordstrom to discover new spring makeup and enjoy personalized samples\, special offers and so much more. \nBook an appointment at nordstrom.com/beautyappointment \nNordstrom. Beauty Begins with You \nFollow @NordstromBeauty on TikTok and Instagram to learn more about our beauty events.
URL:https://eastontowncenter.com/event/color-play-beauty-trend-event/
ATTACH;FMTTYPE=image/png:https://eastontowncenter.com/wp-content/uploads/2026/02/Untitled-design-6.png
END:VEVENT
BEGIN:VEVENT
DTSTART;VALUE=DATE:20260418
DTEND;VALUE=DATE:20260420
DTSTAMP:20260423T105142
CREATED:20260413T155109Z
LAST-MODIFIED:20260416T182305Z
UID:10046208-1776470400-1776643199@eastontowncenter.com
SUMMARY:Jo Malone London: Message on a Bottle
DESCRIPTION:Add the finishing touch to your favorite scent at Jo Malone London. \nChoose a complimentary bottle charm featuring a thoughtful message\, a charming detail for gifting or keeping during store hours April 18-19th.
URL:https://eastontowncenter.com/event/message-on-a-bottle-at-jo-malone-london/
ATTACH;FMTTYPE=image/png:https://eastontowncenter.com/wp-content/uploads/2026/04/Untitled-design-48.png
END:VEVENT
BEGIN:VEVENT
DTSTART;TZID=America/New_York:20260418T130000
DTEND;TZID=America/New_York:20260418T150000
DTSTAMP:20260423T105142
CREATED:20260413T152649Z
LAST-MODIFIED:20260413T214743Z
UID:10046206-1776517200-1776524400@eastontowncenter.com
SUMMARY:Brighton Collectibles: Local Author Signing
DESCRIPTION:Come join Brighton Collectibles on Saturday\, April 18th from 1-3pm for a local author book signing event! \nDavid Yunker is a photographer who has published his first book\, The Photographer – The Chip Conspiracy and we have the honor of having him in store for a book signing! The Photographer – The Chip Conspiracy takes you on an action packed journey of photographer Jimmy Simpson as he finds himself protecting Rachel Montgomery\, a semiconductor engineer in town for a convention of which he was supposed to take photos for. \nThe story starts right here in Columbus\, OH! You will love reading this adventure as it takes you through well-known local sites as well as locations across the country and internationally. David has included some of his own photography within the pages of his novel. \nWe can’t wait for you to stop in to meet him and learn more about his first published novel!
URL:https://eastontowncenter.com/event/local-author-signing-at-brighton-collectibles/
CATEGORIES:Event
ATTACH;FMTTYPE=image/png:https://eastontowncenter.com/wp-content/uploads/2026/04/Untitled-design-46.png
END:VEVENT
END:VCALENDAR